BEGIN:VCALENDAR
VERSION:2.0
PRODID:-//wp-events-plugin.com//6.6.3//EN
TZID:Europe/Berlin
X-WR-TIMEZONE:Europe/Berlin
BEGIN:VEVENT
UID:367@gjr-nordstemmen.de
DTSTART;TZID=Europe/Berlin:20260706T080000
DTEND;TZID=Europe/Berlin:20260710T160000
DTSTAMP:20251113T120027Z
URL:https://www.gjr-nordstemmen.de/veranstaltungen/sommerferienspass-2026/
SUMMARY:Sommerferienspaß 2026
DESCRIPTION:Sommerferienbetreuung – Spiel\, Spaß &amp\; Abenteuer! ☀
 ️In unserer Sommerferienbetreuung erwartet die Kinder ein abwechslungsre
 iches Programm voller Bewegung\, Kreativität und guter Laune! Gemeinsam e
 rleben wir spannende Tage von 8:00 bis 16:00 Uhr – inklusive leckerem Mi
 ttagessen.Ob beim Planschen im Freibad\, bei sportlichen Spielen auf dem G
 elände\, kreativen Musik- und Bastelangeboten oder abwechslungsreichen Au
 sflügen – hier ist für jedes Kind etwas dabei. Unsere Betreuerinnen un
 d Betreuer sorgen für eine fröhliche\, sichere und gemeinschaftliche Atm
 osphäre\, in der Spaß und Teamgeist an erster Stelle stehen.Freut euch a
 uf unvergessliche Ferien voller Abenteuer\, Lachen und neuer Freundschafte
 n! 🌞🏊‍♂️🎶⚽Ferienbetreuung Mo-Fr 8:00 - 16:00 Uhr für Kin
 der von 5-13 Jahren.Sommerferien: 06.07. - 10.07.Kosten:1. Kind: 120€2. 
 Geschwisterkind: 100€Jedes weitere Geschwisterkind: 50€(In dem Betrag 
 ist das Mittagessen enthalten.)Überweisen Sie das Geld nach Anmeldebestä
 tigung und bitte spätestens bis zum 05.06.2026.Bitte geben Sie Ihren Kind
 ern an allen Tagen ein Frühstück und genügend Getränke mit\, wie an no
 rmalen Schultagen. Denken Sie bitte auch an wetterangepasste Kleidung/ Wec
 hselkleidung.Die Kosten berechnen sich Pauschal für die ganze Woche inklu
 sive Mittagessen\, Bastelmaterialien und Personalkosten. Auch wenn die Kin
 der nicht jeden Tag kommen\, wird der gesamte Betrag fällig.WICHTIG!!! An
 meldungen sind ab dem 15.11.2026 um 20:00 Uhr möglich.Anmeldeschluss ist 
 der 05.06.2026.Stornierungen sind nur kostenlos bis zum 05.06.2026 möglic
 hFördermöglichkeiten über Bildungs- und Teilhabepaket (BuT) oder Kohle 
 für Kids (Infos unter: 05069/800-45 Gemeinde Nordstemmen).
ATTACH;FMTTYPE=image/jpeg:https://www.gjr-nordstemmen.de/wp-content/upload
 s/2025/11/Ferienbetreuung.jpg
CATEGORIES:Ferienpass
LOCATION:GJR-Nordstemmen e.V. / Asternschule\, Asternstraße 13\, Nordstemm
 en\, 31171\, Deutschland
X-APPLE-STRUCTURED-LOCATION;VALUE=URI;X-ADDRESS=Asternstraße 13\, Nordstem
 men\, 31171\, Deutschland;X-APPLE-RADIUS=100;X-TITLE=GJR-Nordstemmen e.V. 
 / Asternschule:geo:0,0
END:VEVENT
BEGIN:VTIMEZONE
TZID:Europe/Berlin
X-LIC-LOCATION:Europe/Berlin
BEGIN:DAYLIGHT
DTSTART:20260329T030000
TZOFFSETFROM:+0100
TZOFFSETTO:+0200
TZNAME:CEST
END:DAYLIGHT
END:VTIMEZONE
END:VCALENDAR