BEGIN:VCALENDAR
VERSION:2.0
PRODID:-//wp-events-plugin.com//6.6.3//EN
TZID:Europe/Berlin
X-WR-TIMEZONE:Europe/Berlin
BEGIN:VEVENT
UID:330@gjr-nordstemmen.de
DTSTART;TZID=Europe/Berlin:20250716T100000
DTEND;TZID=Europe/Berlin:20250716T120000
DTSTAMP:20250617T113808Z
URL:https://www.gjr-nordstemmen.de/veranstaltungen/selbstverteidigungskurs
 -fuer-kinder-und-jugendliche/
SUMMARY:Selbstverteidigungskurs für Kinder und Jugendliche
DESCRIPTION:Beschreibung\nIn dem Selbstverteidigungskurs üben wir mit Dir 
 auf Judomatten in der Turnhalle den Angriff eines großen und starken Gegn
 ers aus der Standsituation mit einem Judowurf verletzungsfrei abzuwehren. 
 Ein erfahrener Judolehrer übt mit Dir\, wie Du einen Gegner im Bodenkampf
  mit einem Haltegriff besiegen kannst sowie Befreiungstechniken aus der R
 ückenlage. Ausserdem üben wir\, wie Du Dich richtig verhalten solltest\,
  wenn Dich der Gegner mit einem Stock\, Messer oder Peitsche bedroht sowie
  Konflikte ohne Anwendung von Gewalt friedlich zu lösen. Auch auf Deine i
 ndividuellen Fragen und Wünsche können wir gerne eingehen.\nAlter\n6 - 1
 2 Jahren\nTreffpunkt\nVor der Turnhalle.\nIn der Umkleidekabine kannst Du 
 Dich umziehen.\nWichtig\nFür die Teilnahme am Selbstverteidigungskurs emp
 fehlen wir Dir folgende Sachen mitzubringen:\n- eine saubere lange und rei
 ssfeste Jogginghose\,\n- einen sauberen langärmligen und reissfesten Pull
 over\,\n- oder Judo-\, Karateanzug (falls vorhanden)\,\n- Turnschuhe oder 
 Socken für die Halle\,\n- viel Wasser ohne Zucker zum Trinken.\nSonstiges
 \nKursleiter:\nDipl. Psychologe Matthias Peter Fuchs\nwww.psychologische-t
 ierklinik.de\n\nDie Altersangaben sind Empfehlungen.\nDie Teilnahme ist ko
 stenlos. Über eine Spende würden wir uns freuen.\nKontakt und Anmeldung\
 nAnmeldungen bitte per Mail oder telefonisch:\n\nWebsite www.vfl-giften.de
 /\n\nE-Mail\ninfo (at) psychologische-tierklinik.de\n\nTelefon\n0163373412
 4 oder 050694804960
CATEGORIES:Ferienpass
END:VEVENT
BEGIN:VTIMEZONE
TZID:Europe/Berlin
X-LIC-LOCATION:Europe/Berlin
BEGIN:DAYLIGHT
DTSTART:20250330T030000
TZOFFSETFROM:+0100
TZOFFSETTO:+0200
TZNAME:CEST
END:DAYLIGHT
END:VTIMEZONE
END:VCALENDAR