BEGIN:VCALENDAR
VERSION:2.0
PRODID:-//wp-events-plugin.com//6.6.3//EN
TZID:Europe/Berlin
X-WR-TIMEZONE:Europe/Berlin
BEGIN:VEVENT
UID:324@gjr-nordstemmen.de
DTSTART;TZID=Europe/Berlin:20250811T150000
DTEND;TZID=Europe/Berlin:20250811T170000
DTSTAMP:20250617T114220Z
URL:https://www.gjr-nordstemmen.de/veranstaltungen/ferienspass-in-den-gron
 auer-lichtspielen-mit-die-schluempfe-der-grosse-kinofilm/
SUMMARY:FERIENsPASS in den Gronauer Lichtspielen mit „Die Schlümpfe: Der
  grosse Kinofilm“
DESCRIPTION:Montag\, 11.08.2025\, um 15.00 Uhr und 17.30 Uhr       
                                       
    Dienstag\, 12.08.2025\, um 15.00 Uhr und 17.30 Uhr\n\nVeranstaltungst
 itel FERIENsPASS in den Gronauer Lichtspielen               
                    mit „Die Schlümpfe: Der grosse Ki
 nofilm“\n\nInhaltliche Beschreibung\n\nKurz vor Ferienende laden Euch di
 e Gronauer Lichtspiele zu einem Kinoerlebnis ein\, alle Kinder im Leineber
 gland sind herzlich willkommen. \n\nGratis zum Film „Die Schlümpfe: Der
  grosse Kinofilm“  gibt es eine kleine Tüte Popcorn. \n\nTickets bekom
 mt Ihr vor Ort\, vorab im Internet www.kulturkreisgronau.de und bei der Vo
 rverkaufsstelle Peter Büro-Papier\, Hauptstr. 9 in Gronau.\n\nTipp: Aufgr
 und der Platzbeschränkung lohnt es sich die Karten vorab zu erwerben.
CATEGORIES:Ferienpass
LOCATION:Gronauer Lichtspiele\, Bahnhofstr. 11\, Gronau\, Niedersachsen\, 3
 1028\, Deutschland
X-APPLE-STRUCTURED-LOCATION;VALUE=URI;X-ADDRESS=Bahnhofstr. 11\, Gronau\, N
 iedersachsen\, 31028\, Deutschland;X-APPLE-RADIUS=100;X-TITLE=Gronauer Lic
 htspiele:geo:0,0
END:VEVENT
BEGIN:VTIMEZONE
TZID:Europe/Berlin
X-LIC-LOCATION:Europe/Berlin
BEGIN:DAYLIGHT
DTSTART:20250330T030000
TZOFFSETFROM:+0100
TZOFFSETTO:+0200
TZNAME:CEST
END:DAYLIGHT
END:VTIMEZONE
END:VCALENDAR