BEGIN:VCALENDAR
VERSION:2.0
PRODID:-//wp-events-plugin.com//6.6.3//EN
TZID:Europe/Berlin
X-WR-TIMEZONE:Europe/Berlin
BEGIN:VEVENT
UID:169@gjr-nordstemmen.de
DTSTART;TZID=Europe/Berlin:20230720T160000
DTEND;TZID=Europe/Berlin:20230720T170000
DTSTAMP:20230626T112215Z
URL:https://www.gjr-nordstemmen.de/veranstaltungen/fantasiereise-fuer-kind
 er/
SUMMARY:Fantasiereise für Kinder
DESCRIPTION:Freut Euch auf eine fantasievolle Zeit voller Geschichten\, Kl
 ängen und Erlebnissen\n\nder erste Tag der Fantasiereise ist eine Bärenr
 eise:\n\nDie Kinder sind kleine Bärenkinder in der Jahreszeit des Herbste
 s. der Wald ist voller bunter Blätter. Langsam aber sicher rückt Väterc
 hen Frost heran er läutet den Winter ein ( die Kinder bekommen ein Wasser
 eis\, sodass sie den Winter auch schmecken und fühlen können). Die Bäre
 nkinder ziehen sich in ihre Höhlen zur Winterruhe zurück (für jedes Kin
 d ist eine kleine Höhle bereit gestellt). Dann dürfen die Bärenkinder v
 on einer wundervollen Welt voller Klänge und Schönheit träumen. Der Fr
 ühling weckt sie auf und hält frische Beeren bereit.\n\nFür Kinder im A
 lter von 5 bis 10 Jahren (max 10 Kinder)\n\nKosten je Fantasiereise 15€\
 n\nIch freue mich auf Euch\n\nEure Jana
LOCATION:Dorfgemeinschaftshaus Mahlerten\, Leunisstr. 16\, Nordstemmen\, 31
 171\, Deutschland
X-APPLE-STRUCTURED-LOCATION;VALUE=URI;X-ADDRESS=Leunisstr. 16\, Nordstemmen
 \, 31171\, Deutschland;X-APPLE-RADIUS=100;X-TITLE=Dorfgemeinschaftshaus Ma
 hlerten:geo:0,0
END:VEVENT
BEGIN:VTIMEZONE
TZID:Europe/Berlin
X-LIC-LOCATION:Europe/Berlin
BEGIN:DAYLIGHT
DTSTART:20230326T030000
TZOFFSETFROM:+0100
TZOFFSETTO:+0200
TZNAME:CEST
END:DAYLIGHT
END:VTIMEZONE
END:VCALENDAR